BEGIN:VCALENDAR
VERSION:2.0
PRODID:-//Juice 1073 Gold Coast Radio - ECPv4.8.1//NONSGML v1.0//EN
CALSCALE:GREGORIAN
METHOD:PUBLISH
X-WR-CALNAME:Juice 1073 Gold Coast Radio
X-ORIGINAL-URL:https://juice1073.com.au
X-WR-CALDESC:Events for Juice 1073 Gold Coast Radio
BEGIN:VEVENT
DTSTART;TZID=Australia/Brisbane:20190225T080000
DTEND;TZID=Australia/Brisbane:20190225T170000
DTSTAMP:20190226T235810
CREATED:20190226T051832Z
LAST-MODIFIED:20190226T051832Z
UID:11504-1551081600-1551114000@juice1073.com.au
SUMMARY:Harry Potter Trivia Night
DESCRIPTION:You’re invited to join the grand wizard and witches Trivia duel. Collect your muggle mates and create you very own Dumbledores Army. Will you rise to the challenge? Best HP Trivia in Brisbane! \nGet your wizardry supplies at our mini diagon alley. Themed Games and Trivia – with a great sellection of prizes and raffles. Excellent selection of food and drinks at prices that would make a goblin cross its legs! \nDont forget to put on your best wizards robes for the best dressed competition. \nSuites muggles 10 yrs old and up. \nSo get your wands ready! Harry Potter fans will not want to miss this Brisbane Trivia event. \nADVANCE NOTICE – our trivia nights always sell out fast. \nTickets available at Eventbrite and Facebook \n
URL:https://juice1073.com.au/event/harry-potter-trivia-night/
LOCATION:sherwood services club\, 1 clewley st\, Corinda\, Qld\, 4075\, Australia
ATTACH;FMTTYPE=image/jpeg:https://juice1073.com.au/wp-content/uploads/2019/02/2ugyka.jpg
ORGANIZER;CN="trivia%20with%20heart":MAILTO:triviawithheart@yahoo.com
END:VEVENT
END:VCALENDAR